BEGIN:VCALENDAR
VERSION:2.0
PRODID:-//sebbo.net//ical-generator//EN
BEGIN:VEVENT
UID:973b86a1-babf-492f-ab00-706e47a828e1
SEQUENCE:0
DTSTAMP:20260421T091945Z
DTSTART:20261216T180000Z
DTEND:20261216T210000Z
SUMMARY:Drangsal - 10 Jahre »Harieschaim« - Leipzig - Conne Island
LOCATION:Conne Island\, Koburger Straße 3\, 04277 Leipzig\, Germany
DESCRIPTION:Doors: 19:00 Uhr\, Start: 20:00
END:VEVENT
END:VCALENDAR