BEGIN:VCALENDAR
VERSION:2.0
PRODID:-//sebbo.net//ical-generator//EN
BEGIN:VEVENT
UID:d5e118f5-deff-4544-b03e-616e82cf5fce
SEQUENCE:0
DTSTAMP:20260421T092505Z
DTSTART:20260905T170000Z
DTEND:20260905T200000Z
SUMMARY:Drangsal - 10 Jahre »Harieschaim« - Berlin - Heimathafen Neuköl
 ln
LOCATION:Heimathafen Neukölln\, Karl-Marx-Straße 141\, 12043 Berlin\, Ge
 rmany
DESCRIPTION:Doors: 19:00 Uhr\, Start: 20:00
END:VEVENT
END:VCALENDAR