BEGIN:VCALENDAR
VERSION:2.0
PRODID:-//sebbo.net//ical-generator//EN
BEGIN:VEVENT
UID:f6ff98e2-d866-4bda-9eab-95ee7dee08c6
SEQUENCE:0
DTSTAMP:20260421T091839Z
DTSTART:20260904T170000Z
DTEND:20260904T200000Z
SUMMARY:Drangsal - 10 Jahre »Harieschaim« - Hamburg - Mojo Club
LOCATION:Mojo Club\, Reeperbahn 1\, 20359 Hamburg\, Germany
DESCRIPTION:Doors: 19:00 Uhr\, Start: 20:00
END:VEVENT
END:VCALENDAR