BEGIN:VCALENDAR
VERSION:2.0
PRODID:-//sebbo.net//ical-generator//EN
BEGIN:VEVENT
UID:4980fc73-5156-48dc-b2e4-3227a7021ced
SEQUENCE:0
DTSTAMP:20260421T092427Z
DTSTART:20261217T180000Z
DTEND:20261217T210000Z
SUMMARY:Drangsal - 10 Jahre »Harieschaim« - Düsseldorf - zakk
LOCATION:zakk\, Fichtenstraße 40\, 40233 Düsseldorf\, Germany
DESCRIPTION:Doors: 19:00 Uhr\, Start: 20:00
END:VEVENT
END:VCALENDAR